BEGIN:VCALENDAR
VERSION:2.0
PRODID:-//Pisando la tierra - ECPv6.2.9//NONSGML v1.0//EN
CALSCALE:GREGORIAN
METHOD:PUBLISH
X-ORIGINAL-URL:https://pisandolatierra.com
X-WR-CALDESC:Eventos para Pisando la tierra
REFRESH-INTERVAL;VALUE=DURATION:PT1H
X-Robots-Tag:noindex
X-PUBLISHED-TTL:PT1H
BEGIN:VTIMEZONE
TZID:UTC
BEGIN:STANDARD
TZOFFSETFROM:+0000
TZOFFSETTO:+0000
TZNAME:UTC
DTSTART:20230101T000000
END:STANDARD
END:VTIMEZONE
BEGIN:VEVENT
DTSTART;TZID=UTC:20230330T170000
DTEND;TZID=UTC:20230330T200000
DTSTAMP:20260425T191554
CREATED:20230131T100008Z
LAST-MODIFIED:20230323T105624Z
UID:5968-1680195600-1680206400@pisandolatierra.com
SUMMARY:Aceites esenciales y Reflexología Podal
DESCRIPTION:La combinación perfecta\nLa Reflexología Podal produce un efecto en tu organismo. Presionando los puntos reflejos consigues llegar a las diferentes partes del cuerpo ayudando así\, a equilibrarlo. \nSi en ese masaje añades unas gotitas de un aceite esencial\, dependiendo de qué efecto quieras conseguir será uno u otro… el efecto de la Reflexología Podal se multiplica INFINITO! \nEn este taller te enseñamos a utilizar las dos técnicas combinadas para que así puedas utilizarlas de manera fácil y segura en casa.  \nVamos a ver diferentes “recetas” para que de una manera muy sencilla puedas en casa aplicar unas gotitas de aceite esencial junto con un masaje en los puntos reflejos necesarios para:  \n🌿 relajarte \n🌿 dormir mejor \n🌿 aliviar los dolores de cabeza  o \n🌿 mejorar la circulación  \nSerá una forma muy sencilla de tener una herramienta más que podrás utilizar siempre y donde lo necesites. \nTaller presencial en:\nReikiaiumi\nc/Bajada de Arrigunaga 26\nAlgorta – Getxo (Bizkaia) \nPlazas limitadas!\nReserva tu plaza escribiendo un correo a hola@pisandolatierra.com 
URL:https://pisandolatierra.com/taller/aceites-esenciales-y-reflexologia-podal-2/
ATTACH;FMTTYPE=image/png:https://pisandolatierra.com/wp-content/uploads/2022/09/3-1.png
END:VEVENT
END:VCALENDAR