BEGIN:VCALENDAR
VERSION:2.0
PRODID:-//Pisando la tierra - ECPv6.2.9//NONSGML v1.0//EN
CALSCALE:GREGORIAN
METHOD:PUBLISH
X-ORIGINAL-URL:https://pisandolatierra.com
X-WR-CALDESC:Eventos para Pisando la tierra
REFRESH-INTERVAL;VALUE=DURATION:PT1H
X-Robots-Tag:noindex
X-PUBLISHED-TTL:PT1H
BEGIN:VTIMEZONE
TZID:UTC
BEGIN:STANDARD
TZOFFSETFROM:+0000
TZOFFSETTO:+0000
TZNAME:UTC
DTSTART:20230101T000000
END:STANDARD
END:VTIMEZONE
BEGIN:VEVENT
DTSTART;TZID=UTC:20230616T180000
DTEND;TZID=UTC:20230616T210000
DTSTAMP:20260423T150309
CREATED:20230609T091321Z
LAST-MODIFIED:20230609T091321Z
UID:6195-1686938400-1686949200@pisandolatierra.com
SUMMARY:Botiquín Natural ¡Prepárate para el verano! Descubre el poder de la arcilla y los aceites esenciales. PRESENCIAL
DESCRIPTION:El verano trae cosas maravillas! pero también hay otras que son un poquito más incómodas. Con unos pocos conocimientos podemos solventarlas de una manera fácil\, sencilla\, natural y NADA AGRESIVA! ¿Te apetece? \n🌿🦟 ¿Mosquitos molestos? ¡Ahuyéntalos y trata las picaduras de forma natural!\n✂️🩹 Domina el cuidado de cortes y heridas sin complicaciones.\n💆‍♀️🦵 Alivia piernas cansadas y mejora la circulación.\n🧹🏠 Realiza una limpieza energética en tu espacio vital.\n💦🌞 Cuida tu piel seca después de un día bajo el sol. \nAprende a utilizar los Aceites Esenciales\, a aplicarlos con recetas específicas para cada caso y también a mezclar\, aplicar\, retirar y conservar la arcilla para poder utilizarla de manera segura ya que es un complemento perfecto para los aceites esenciales.  \nTendrás un botiquín perfecto\, natural y que sabrás utilizar en cada ocasión. No tendrás escusa para disfrutar del verano a tope!  \n📆 Vente a esta taller PRESENCIAL el día 16 de junio de 18:00 a 21:00 h.  Además\, después te envíamos un PDF con toda la información y un video exclusivo para mezclar y aplicar la arcilla cuando lo necesites. \n💰 Precio: 40€ (y te llevas un botecito de arcilla recién mezclada para que la tengas lista para usar!) \n🌿🌼 ¡La magia de la arcilla y los aceites esenciales está esperando por ti! Aprovecha esta oportunidad y descubre todo lo que la naturaleza puede hacer por ti. ¡Reserva tu lugar ahora mismo! 🌿🌼 \n👉🏽RESERVA TU PLAZA AQUÍ! \n 
URL:https://pisandolatierra.com/taller/botiquin-natural-preparate-para-el-verano-descubre-el-poder-de-la-arcilla-y-los-aceites-esenciales-presencial/
ATTACH;FMTTYPE=image/png:https://pisandolatierra.com/wp-content/uploads/2022/06/Diseno-sin-titulo-20.png
END:VEVENT
END:VCALENDAR