BEGIN:VCALENDAR
VERSION:2.0
PRODID:-//Pisando la tierra - ECPv6.2.9//NONSGML v1.0//EN
CALSCALE:GREGORIAN
METHOD:PUBLISH
X-WR-CALNAME:Pisando la tierra
X-ORIGINAL-URL:https://pisandolatierra.com
X-WR-CALDESC:Eventos para Pisando la tierra
REFRESH-INTERVAL;VALUE=DURATION:PT1H
X-Robots-Tag:noindex
X-PUBLISHED-TTL:PT1H
BEGIN:VTIMEZONE
TZID:Europe/Helsinki
BEGIN:DAYLIGHT
TZOFFSETFROM:+0200
TZOFFSETTO:+0300
TZNAME:EEST
DTSTART:20230326T010000
END:DAYLIGHT
BEGIN:STANDARD
TZOFFSETFROM:+0300
TZOFFSETTO:+0200
TZNAME:EET
DTSTART:20231029T010000
END:STANDARD
END:VTIMEZONE
BEGIN:VEVENT
DTSTART;TZID=Europe/Helsinki:20230530T140000
DTEND;TZID=Europe/Helsinki:20230530T160000
DTSTAMP:20260423T150208
CREATED:20230523T111802Z
LAST-MODIFIED:20230523T111802Z
UID:6117-1685455200-1685462400@pisandolatierra.com
SUMMARY:Reflexología Podal y Respiración Consciente durante el embarazo
DESCRIPTION:Este mes nos toca taller MUY MUY especial para mí porque con él vuelvo a mis orígenes. \nEmpecé mi andadura con la Reflexología Podal trabajando con mujeres embarazadas y bebes y para mí este tema siempre es muy especial. \nDurante el embarazo sufrimos diferentes molestias que son PERFECTAMENTE NORMALES y muchas veces NECESARIAS porque nuestro cuerpo se está adaptando a ese momento. \nPor un lado\, físicamente tenemos que “hacer hueco” a esa vida que está creciendo dentro de nosotras y por otro lado además nuestro cuerpo tiene que alimentar y prepararse para cuidar a ese bebé así que sí\, los cambios en nuestro cuerpo son evidentes y necesarios y muchas veces esto trae molestias que a veces\, durante el “largo” embarazo se nos hacen pesadas. \nQue estas molestias sean “normales” o necesarias no implica que no podamos hacer nada para rebajarlas\, mejorar o que sean menos molestas. \nY es aquí donde entra la MARAVILLOSA Reflexología Podal\, porque es algo que no es agresivo para nuestro cuerpo y que ayuda a equilbirarlo\, a mejorar o a ayudar a las zonas afectadas a recuperarse. \nSi bien la Reflexología puede ayudarnos\, tenemos que saber cómo hacerlo sobre todo durante el embarazo porque hay zonas que no debemos tocar para dejar que todo lo relacionado directamente con el bebé siga su curso. \nEn este taller te enseño de manera práctica cómo darte (o que te den) un masaje de Reflexología Podal durante el embarazo para conseguir reducir: \n✨ la ansiedad y el estrés\,\n✨ el estreñimiento\,\n✨ los problemas de presión sanguínea\,\n✨ los dolores de espalda\,\n✨ la acidez\,\n✨ el insomnio\,\n✨ las hemorroides\,\n✨ los\, vómitos y mareos\,\n✨ el dolor muscular\,\n✨ los calambres\,\n✨ los trastornos urinarios… \nAprenderás a hacerlo de manera segura y además de ser un masaje REALMENTE EFECTIVO será una manera más de cuidarte en este momento vital que estás viviendo. \n¿Y voy a poder yo darme ese masaje? \nSegún en qué momento del embarazo estés podrás dártelo a ti misma siempre que quieras o lo necesites. Cuando el embarazo esté más avanzado lo ideal será que otra persona\, ya sea tu pareja\, un familiar o una amiga te puedan dar el masaje (ese momento de mimos y cuidados es taaannn necesario!😊). Pero no es necesario que ellos realicen el taller\, ya que después de realizarlo recibirás un video grabado con los puntos reflejos donde se ve perfectamente cómo hacer el masaje y podrán seguirlo a la perfección. \nAdemás en el taller te explico una técnica de respiración consciente que podrás utilizar tanto durante el embarazo para relajarte como durante el parto. \nY ademas te llevas el PDF con toda la inforamación para que la tengas siempre a mano. \nEl taller será grabado\, así que si no puedes estar en directo\, no te preocupes porque depués TE ENVIAMOS LA GRABACIÓN y así puedes verla donde y cuando quieras\, a tu ritmo! \n👉🏽RESERVA TU PLAZA AQUÍ
URL:https://pisandolatierra.com/taller/reflexologia-podal-y-respiracion-consciente-durante-el-embarazo/
LOCATION:@ ONLINE
END:VEVENT
END:VCALENDAR