BEGIN:VCALENDAR
VERSION:2.0
PRODID:-//Pisando la tierra - ECPv6.2.9//NONSGML v1.0//EN
CALSCALE:GREGORIAN
METHOD:PUBLISH
X-ORIGINAL-URL:https://pisandolatierra.com
X-WR-CALDESC:Eventos para Pisando la tierra
REFRESH-INTERVAL;VALUE=DURATION:PT1H
X-Robots-Tag:noindex
X-PUBLISHED-TTL:PT1H
BEGIN:VTIMEZONE
TZID:UTC
BEGIN:STANDARD
TZOFFSETFROM:+0000
TZOFFSETTO:+0000
TZNAME:UTC
DTSTART:20230101T000000
END:STANDARD
END:VTIMEZONE
BEGIN:VEVENT
DTSTART;TZID=UTC:20230427T140000
DTEND;TZID=UTC:20230427T160000
DTSTAMP:20260425T191715
CREATED:20230418T183747Z
LAST-MODIFIED:20230726T154749Z
UID:6074-1682604000-1682611200@pisandolatierra.com
SUMMARY:Piernas ligeras con Reflexología Podal y Aceites Esenciales
DESCRIPTION:DOLOR DE PIERNAS\, PESADEZ\, CANSANCIO\, MALA CIRCULACIÓN\, VARICES\, RETENCIÓN DE LÍQUIDOS… \nTodo esto son problemas muy típicos en esta época del año y muy típicos también en las mujeres. \nSe acerca el calor poco a poco (según donde vivas un poco más o un poco mejos… 😉) y ya empezamos a notar los efectos en nuestro organismo. \nBien\, no hace falta que te diga que la Reflexología Podal y los Aceites Esenciales son grandes aliados para solventar este dipo de dolencias. \nAsí que el taller ONLINE de este mes se llama: “Piernas ligeras con Reflexología Podal y Aceites Esenciales”!! \nEn este taller te enseño: \n✨Qué puedes hacer para rebajar el esas molestias. \n✨ 5 puntos reflejos de Reflexología Podal para mejorar la circulación y aliviar tus piernas. \n✨ 5 Aceites Esenciales que te van a ayudar en el proceso. \n✨ Recetas de Aromaterapia que serán el complemento perfecto. \nY ademas te llevas el PDF con toda la inforamación y un VIDEO EXCLUSIVO con los puntos reflejos para que puedas verlo siempre que lo necesites. \nEl taller será grabado\, así que si no puedes estar en directo\, no te preocupes porque depués te enviamos la grabación y así puedes verla donde y cuando quieras\, a tu ritmo! \nEl taller cuesta 19€\, lo que te llevas\, realmente\, no tiene precio 😉  \n👉🏽RESERVA TU PLAZA AQUÍ \n 
URL:https://pisandolatierra.com/taller/piernas-ligeras-con-reflexologia-podal-y-aceites-esenciales/
LOCATION:@ ONLINE
CATEGORIES:Presencial
ATTACH;FMTTYPE=image/png:https://pisandolatierra.com/wp-content/uploads/2023/04/Imagenes-Eventos-2.png
END:VEVENT
END:VCALENDAR