BEGIN:VCALENDAR
VERSION:2.0
PRODID:-//Pisando la tierra - ECPv6.2.9//NONSGML v1.0//EN
CALSCALE:GREGORIAN
METHOD:PUBLISH
X-ORIGINAL-URL:https://pisandolatierra.com
X-WR-CALDESC:Eventos para Pisando la tierra
REFRESH-INTERVAL;VALUE=DURATION:PT1H
X-Robots-Tag:noindex
X-PUBLISHED-TTL:PT1H
BEGIN:VTIMEZONE
TZID:Europe/Helsinki
BEGIN:DAYLIGHT
TZOFFSETFROM:+0200
TZOFFSETTO:+0300
TZNAME:EEST
DTSTART:20230326T010000
END:DAYLIGHT
BEGIN:STANDARD
TZOFFSETFROM:+0300
TZOFFSETTO:+0200
TZNAME:EET
DTSTART:20231029T010000
END:STANDARD
END:VTIMEZONE
BEGIN:VEVENT
DTSTART;TZID=Europe/Helsinki:20230228T180000
DTEND;TZID=Europe/Helsinki:20230228T200000
DTSTAMP:20260425T205500
CREATED:20230209T162520Z
LAST-MODIFIED:20230209T162742Z
UID:5981-1677607200-1677614400@pisandolatierra.com
SUMMARY:Libérate de los problemas DIGESTIVOS con Reflexología Podal y Aceites Esenciales
DESCRIPTION:¿Es el “estómago” tu punto débil? ¿Sufres de digestiones pesadas\, estreñimiento\, colon irritable\, acidez\, tripa hinchada\, gases\, diarreas…? bueno\, en general\, ¿sufres de algún tipo de trastorno digestivo? \nEste tipo de dolencias es mucho más común de lo que nos imaginamos y si algo tienen es que son muy muy incómodas en el día a día. \nLos motivos pueden ser muy variados y cada caso debería ser estudiado y diagnosticado por una persona profesional. Pero\, es verdad\, que el autocuidado nos ayuda mucho a mejorar este tipo de dolencias y en concreto la Reflexología Podal puede ser una gran aliada para ayudarnos a euqilibrar el sistema digestivo. \nEl buen funcionamiento del sistema digestivo es CLAVE para tener una vida de calidad. Que el sistema digestivo funcione\, es clave para vivir\, pero que funcione correctamente es la diferencia entre que esa vida tenga más calidad o menos. ¿Por qué? pues porque además de dejar de sufrir síntomas o dolencias porque no funciona correctamente\, en el intestino se genera el 90% de la serotonina\,  esa hormona que nos hace “sentir bien” lo que hace que si nuestras digestiones y el sistema digestivo funcionan correctamente tus niveles de serononina van a ser más altos que si no lo hace\, es decir\, TE SENTIRÁS MÁS FELIZ SI TU SISTEMA DIGESTIVO FUNCIONA CORRECTAMENTE. (es pura química). \nSea cual sea el motivo\, con un masaje en los pies presionando los puntos reflejos que necesitamos vamos a conseguir rebajar esos síntomas que nos atacan en el estómago o el intestino y vamos a conseguir equilibrar nuestro organismo. \nY… ¿qué vamos a aprender en este taller? \nVamos a ver cómo los diferentes motivos que pueden estar generándonos esos problemas digestivos\, cómo podemos cuidar este sistema para mejorar el proceso y además os voy a enseñar  UNAS HERRAMIENTAS que vas a poder utilizar siempre que lo necesites contigo o con tu familia de una manera segura porque habrás aprendido cómo hacerlo. \nTe voy a enseñar cómo fácilmente\, (como siempre… muy fácil) y sin mcuho esfuerzo puedes ayudar a tu cuerpo a equilibrar su sistema digestivo con: \n✨ Los puntos reflejos de Reflexología Podal correspondientes a este sistema. \n✨ Los Aceites Esenciales que pueden ayudarte con los problemas digestivos. . \n✨ Alimentos que van a favorecer todo este proceso. . \nAdemás te enviamos un pdf con toda la información que hemos visto en el taller y un video con los puntos reflejos aprendidos para que puedas verlo siempre que lo necesites. \nTaller online. ¡Plazas limitadas! \nPrecio: 19 € \nAunque nosotras te recomendamos que acudas al taller en directo\, porque así podrás hacer preguntas e intercambiar impresiones\, en caso de que no puedas asistir ese día y a esa hora el taller se grabará y al día siguiente te enviaremos la grabación junto con el resto de archivos.  \n👉🏽ACCEDE AQUÍ
URL:https://pisandolatierra.com/taller/liberate-problemas-digetivos-con-reflexologia-podal-y-aceites-esenciales/
LOCATION:@ ONLINE
CATEGORIES:Online
ATTACH;FMTTYPE=image/png:https://pisandolatierra.com/wp-content/uploads/2023/02/Portada-Talleres-con-Texto.png
END:VEVENT
END:VCALENDAR